BEGIN:VCALENDAR
VERSION:2.0
PRODID:-//uwnu.org//NONSGML kigkonsult.se iCalcreator 2.30.10//
CALSCALE:GREGORIAN
METHOD:PUBLISH
UID:a103211d-3992-4b05-8605-561bb5f833ec
X-WR-CALDESC:Welcome to April Art Stroll — where the air feels softer\, the
  light lingers longer\, and we’re pretty sure the fairies and flowers are 
 back.\nSpring is waking everything up again — color\, creativity\, imagina
 tion. Come wander through the Collective\, see what’s blooming on our wall
 s and shelves\, and maybe leave with a little magic of your own.\nArt Stro
 ll is on Friday\, April 3rd\, 2026! The store will be open later than usua
 l for Art Stroll from 6:00 pm to 9:00 pm\; with then even later until 10pm
  for shopping.\nOur Featured Artist is Jackie Archibald\nOwner of Journey 
 Bound Designs\, is a mixed media artist who loves the freedom and challeng
 e of using various materials to create unique and one-of-a-kind pieces. He
 r journals are filled with durable 98# mixed media paper\, perfect for gra
 phite\, marker\, ink and colored pencils. They can be used for self-expres
 sion\, as a diary or as an art journal to explore thoughts\, feelings and 
 ideas. The beads and embellishments are hand-sewn into the covers\, whenev
 er possible to ensure a long lasting and cherished keepsake. Find her in t
 he classroom to co me make your own fairy!\nClasses and Events happening d
 uring the Art Stroll:\n6:00-9:00:\nMake Flying Fairies with Jackie from Jo
 urney Bound Designs to make a whimsical fairy using clothes pins\, paints\
 , beads and flower petals. Lots of colors to choose from to ensure yours i
 s completely unique! Find her in the classroom.\n6:00-9:00: Join Stephanie
  in making your own Pressed Flower Hanging Glass. Drop in anytime to come 
 play with flowers and make your own amazing hanging glass art for $39. Sig
 n up for the class here: https://localartisancollective.com/…/pressed-flow
 er-in…/ Find her in the classroom.\n6:00-9:00:\nDrop In Ring Bar And Silve
 r Spoon Ring. Stop by and pick out pieces for a unique custom-made ring. F
 irst pick out a stone\, then the bezel (metal that holds the stone)\, and 
 then pick your silver band style. After all are chosen\, 16th generation s
 ilversmith\, Rene\, will create your custom ring while you shop. OR choose
  from a variety of vintage sterling silver spoon handles and a ring will b
 e made while you shop. Ring will generally be ready in less than 30 minute
 s. Find him in his studio.\n6:00-9:00:\nCome watch Mike from Hursts Handbl
 own Glass create beautiful art with Glassblowing. It is incredible to see 
 the process as he makes beautiful glass pieces. Find him in his Glass Stud
 io.\n6:00-9:00:\nEast Ridge Elementary will be showcasing their art with t
 heir teacher Ms. Emma Kozlewski. Stop by to see their incredible art. Find
  them in front of the textile studio.\n6:00-9:00:\nFind Steve Stones paint
 ing an amazing piece of art. He will be in the Classroom.\n6:00-7:45:\nFin
 d local Girl Scouts in front of the store selling Girl Scout Cookies! Stop
  by to get your own delicious cookies!! Find them in front of the store.\n
 ******************************************\n6:30 to 8:30:\nIn addition to 
 all the incredible fairy making\, pressed flowers and students art we are 
 thrilled to have live music from Pepper Rose and Dave Crespo who will be p
 art of the Music @ the Collective events. Find them in the classroom.\nSpe
 cial thanks to OFOAM and Ogden City Arts for sponsoring this.\n***********
 *******************************\nFind our store located at 2371 Kiesel Ave
 \, Ogden\, Utah 84401 in the Heart of Downtown Ogden on the South End of t
 he Junction in the Creative Nine Rails District and online at localartisan
 collective.com/shop\nWe are also open Monday through Saturday from 12:00 t
 o 7:00. We will also be open late until 10:00pm on the first Friday of the
  month with Art Stroll.
X-WR-RELCALID:d8033253e57ae2a28b153606b298566e
X-WR-TIMEZONE:America/Denver
BEGIN:VTIMEZONE
TZID:America/Denver
BEGIN:STANDARD
TZNAME:MST
DTSTART:20251102T020000
TZOFFSETFROM:-0600
TZOFFSETTO:-0700
RDATE:20261101T020000
END:STANDARD
BEGIN:DAYLIGHT
TZNAME:MDT
DTSTART:20260308T020000
TZOFFSETFROM:-0700
TZOFFSETTO:-0600
RDATE:20270314T020000
END:DAYLIGHT
END:VTIMEZONE
BEGIN:VEVENT
UID:f9b64968-71bb-4f68-8f54-b23e5e12e4d7
DTSTAMP:20260422T063456Z
DESCRIPTION:Welcome to April Art Stroll — where the air feels softer\, the 
 light lingers longer\, and we’re pretty sure the fairies and flowers are b
 ack.\nSpring is waking everything up again — color\, creativity\, imaginat
 ion. Come wander through the Collective\, see what’s blooming on our walls
  and shelves\, and maybe leave with a little magic of your own.\nArt Strol
 l is on Friday\, April 3rd\, 2026! The store will be open later than usual
  for Art Stroll from 6:00 pm to 9:00 pm\; with then even later until 10pm 
 for shopping.\nOur Featured Artist is Jackie Archibald\nOwner of Journey B
 ound Designs\, is a mixed media artist who loves the freedom and challenge
  of using various materials to create unique and one-of-a-kind pieces. Her
  journals are filled with durable 98# mixed media paper\, perfect for grap
 hite\, marker\, ink and colored pencils. They can be used for self-express
 ion\, as a diary or as an art journal to explore thoughts\, feelings and i
 deas. The beads and embellishments are hand-sewn into the covers\, wheneve
 r possible to ensure a long lasting and cherished keepsake. Find her in th
 e classroom to co me make your own fairy!\nClasses and Events happening du
 ring the Art Stroll:\n6:00-9:00:\nMake Flying Fairies with Jackie from Jou
 rney Bound Designs to make a whimsical fairy using clothes pins\, paints\,
  beads and flower petals. Lots of colors to choose from to ensure yours is
  completely unique! Find her in the classroom.\n6:00-9:00: Join Stephanie 
 in making your own Pressed Flower Hanging Glass. Drop in anytime to come p
 lay with flowers and make your own amazing hanging glass art for $39. Sign
  up for the class here: https://localartisancollective.com/…/pressed-flowe
 r-in…/ Find her in the classroom.\n6:00-9:00:\nDrop In Ring Bar And Silver
  Spoon Ring. Stop by and pick out pieces for a unique custom-made ring. Fi
 rst pick out a stone\, then the bezel (metal that holds the stone)\, and t
 hen pick your silver band style. After all are chosen\, 16th generation si
 lversmith\, Rene\, will create your custom ring while you shop. OR choose 
 from a variety of vintage sterling silver spoon handles and a ring will be
  made while you shop. Ring will generally be ready in less than 30 minutes
 . Find him in his studio.\n6:00-9:00:\nCome watch Mike from Hursts Handblo
 wn Glass create beautiful art with Glassblowing. It is incredible to see t
 he process as he makes beautiful glass pieces. Find him in his Glass Studi
 o.\n6:00-9:00:\nEast Ridge Elementary will be showcasing their art with th
 eir teacher Ms. Emma Kozlewski. Stop by to see their incredible art. Find 
 them in front of the textile studio.\n6:00-9:00:\nFind Steve Stones painti
 ng an amazing piece of art. He will be in the Classroom.\n6:00-7:45:\nFind
  local Girl Scouts in front of the store selling Girl Scout Cookies! Stop 
 by to get your own delicious cookies!! Find them in front of the store.\n*
 *****************************************\n6:30 to 8:30:\nIn addition to a
 ll the incredible fairy making\, pressed flowers and students art we are t
 hrilled to have live music from Pepper Rose and Dave Crespo who will be pa
 rt of the Music @ the Collective events. Find them in the classroom.\nSpec
 ial thanks to OFOAM and Ogden City Arts for sponsoring this.\n************
 ******************************\nFind our store located at 2371 Kiesel Ave\
 , Ogden\, Utah 84401 in the Heart of Downtown Ogden on the South End of th
 e Junction in the Creative Nine Rails District and online at localartisanc
 ollective.com/shop\nWe are also open Monday through Saturday from 12:00 to
  7:00. We will also be open late until 10:00pm on the first Friday of the 
 month with Art Stroll.
DTSTART;TZID=America/Denver:20260403T180000
DTEND;TZID=America/Denver:20260403T210000
LOCATION:The Local Artisan Collective\, 2371 Kiesel Ave.\, Ogden\, UT 84403
  US
SUMMARY:April Art Stroll featuring so many fabulous artists
END:VEVENT
END:VCALENDAR
