BEGIN:VCALENDAR
VERSION:2.0
PRODID:-//uwnu.org//NONSGML kigkonsult.se iCalcreator 2.30.10//
CALSCALE:GREGORIAN
METHOD:PUBLISH
UID:b0d92fc5-b140-44e1-968c-388acb11f372
X-WR-CALDESC:Wait\, what??? Yep! A Drop in Jewelry Bar. Stop by and pick ou
 t parts for a unique custom made ring OR vintage silver spoon ring.  Perfe
 ct for something NEW for you! \nWhat:\nRene will be offering his drop in r
 ing bar. Stop by and pick out parts for a unique custom made ring. First p
 ick out a stone\, size of ring\, then the bezel (metal that holds the ston
 e)\, and then pick your silver band style. OR  choose from a wide variety 
 of spoon handles for a custom spoon ring.\nAfter all are chosen\, 16th gen
 eration silversmith\, Rene\, will create your ring while you shop. Ring wi
 ll be ready in less than 30 minutes and customers will be given a ring box
  to keep this keepsake in.\n\nCost:\nPrices start at about $75+  and will 
 vary depending on what options you choose.\n\nAges:\nOpen to anyone that w
 ants a ring.\n\nWhen:\nDuring Art Stroll\, Friday April 3 from 6:00pm–9pm
 \n\nHow To Register:\nNo need for reservations\, just drop in while shoppi
 ng during art stroll.\n\nAbout The Jeweler:\nThe ring will be made by Rene
  Venegas\, a 16th generation silversmith. His family was one of the first 
 to arrive from Spain to the Americas. His ancestor\, Felipe Venegas\, was 
 the silversmith for the early cathedrals in the Dominican Republic and sta
 mped the first European coins in the New World.  He has been making jewelr
 y since he was a child in his father’s silver shop in Bogota\, Colombia an
 d has been teaching jewelry and silversmithing classes at Weber State for 
 15 years. In addition\, he has been featured in The Standard Examiner\, Th
 e Signpost\, KUTV Inside the Story\,  FOX13 Good Morning Utah\, The Salt P
 roject and KTVX Good Things Utah.
X-WR-RELCALID:a97b01a442ee4d42d9eb31f09d9b15ee
X-WR-TIMEZONE:America/Denver
BEGIN:VTIMEZONE
TZID:America/Denver
BEGIN:STANDARD
TZNAME:MST
DTSTART:20251102T020000
TZOFFSETFROM:-0600
TZOFFSETTO:-0700
RDATE:20261101T020000
END:STANDARD
BEGIN:DAYLIGHT
TZNAME:MDT
DTSTART:20260308T020000
TZOFFSETFROM:-0700
TZOFFSETTO:-0600
RDATE:20270314T020000
END:DAYLIGHT
END:VTIMEZONE
BEGIN:VEVENT
UID:6f0a8d48-ed20-4c91-911f-ad6dd4162ea5
DTSTAMP:20260422T064000Z
DESCRIPTION:Wait\, what??? Yep! A Drop in Jewelry Bar. Stop by and pick out
  parts for a unique custom made ring OR vintage silver spoon ring.  Perfec
 t for something NEW for you! \nWhat:\nRene will be offering his drop in ri
 ng bar. Stop by and pick out parts for a unique custom made ring. First pi
 ck out a stone\, size of ring\, then the bezel (metal that holds the stone
 )\, and then pick your silver band style. OR  choose from a wide variety o
 f spoon handles for a custom spoon ring.\nAfter all are chosen\, 16th gene
 ration silversmith\, Rene\, will create your ring while you shop. Ring wil
 l be ready in less than 30 minutes and customers will be given a ring box 
 to keep this keepsake in.\n\nCost:\nPrices start at about $75+  and will v
 ary depending on what options you choose.\n\nAges:\nOpen to anyone that wa
 nts a ring.\n\nWhen:\nDuring Art Stroll\, Friday April 3 from 6:00pm–9pm\n
 \nHow To Register:\nNo need for reservations\, just drop in while shopping
  during art stroll.\n\nAbout The Jeweler:\nThe ring will be made by Rene V
 enegas\, a 16th generation silversmith. His family was one of the first to
  arrive from Spain to the Americas. His ancestor\, Felipe Venegas\, was th
 e silversmith for the early cathedrals in the Dominican Republic and stamp
 ed the first European coins in the New World.  He has been making jewelry 
 since he was a child in his father’s silver shop in Bogota\, Colombia and 
 has been teaching jewelry and silversmithing classes at Weber State for 15
  years. In addition\, he has been featured in The Standard Examiner\, The 
 Signpost\, KUTV Inside the Story\,  FOX13 Good Morning Utah\, The Salt Pro
 ject and KTVX Good Things Utah.
DTSTART;TZID=America/Denver:20260403T180000
DTEND;TZID=America/Denver:20260403T210000
LOCATION:The Local Artisan Collective\, 2371 Kiesel Ave.\, Ogden\, UT 84403
  US
SUMMARY:Drop In Ring Bar & Design Your Own Sterling Silver Ring OR Silver S
 poon ring
END:VEVENT
END:VCALENDAR
