BEGIN:VCALENDAR
VERSION:2.0
PRODID:-//uwnu.org//NONSGML kigkonsult.se iCalcreator 2.30.10//
CALSCALE:GREGORIAN
METHOD:PUBLISH
UID:736cfa25-bdb7-436a-ab6f-96856fdce313
X-WR-CALDESC:Music @ The Collective\nWe are thrilled to have Pepper Rose an
 d Dave Crespo at April Art Stroll 2026 at The Local Artisan Collective. \n
 Get Ready to Feel the Beat at Music @ The Collective!\nJoin us for a foot-
 tapping\, heart-thumping\, soul-filling good time at Music @ The Collectiv
 e—a FREE monthly celebration of local talent\, creativity\, and community 
 vibes!\nFeaturing:\nIncredible local musicians\nHands-on art demos\nAn all
 -ages experience\nA vibrant\, welcoming space for everyone\nWhere: 2371 Ki
 esel Ave.\, Ogden\nWhen: Monthly during the Art Stroll & special events\nE
 xact times will vary every event\nCost: FREE (Yes\, really!)\nJuly Art Str
 oll 2025:\nBoys and Girls Club Final Recital for the Will and Way Club spo
 nsored by OFOAM\nAugust 1st Art Stroll 2025:\n6:30 to 8:30: Snarling Yarns
 \nSeptember 5th Art Stroll 2025:\n6:30 to 8:30: The Devon Lewis Trio\nOcto
 ber 3rd Art Stroll:\n6:30 to 8:30: Blue Sage\nOctober 18th Store’s 9th Bir
 thday Party:\n1:00: Cooper Lavallee\n2:00: Zaza Historia VanDyke\n3:00:Tho
 mas Tucker\n4:00: Devon Lewis\n5:00: Kal\n6:00: Markus Gunn\n7:00: Riley R
 awlings\nNovember 7th Art Stroll 2025:\n6:00 to 7:15: Wood Carver\n7:45 to
  9:00: Christian Scheller\nDecember 5th Art Stroll 2025:\n6:00 to 8:00: Ad
 am Kozlewski\nFebruary 6th Art Stroll 2026:\nTomo\nMarch 6th Art Stroll 20
 26:\nProper Way\nApril 3rd Art Stroll 2026:\nPepper Rose and Dave Crespo\n
 May 1st Art Stroll 2026:\nStandards and Substandards\nJune 5th Art Stroll 
 2026:\nPoeina\nThe Last Wild Buffalow\nSponsored by Ogden City Arts and OF
 OAM – Ogden Friends of Acoustic Music. We are beyond grateful to them both
  for helping to make this amazing music series happen!
X-WR-RELCALID:e0c0bd12ba48454719ec5ad9e4c3a6e6
X-WR-TIMEZONE:America/Denver
BEGIN:VTIMEZONE
TZID:America/Denver
BEGIN:STANDARD
TZNAME:MST
DTSTART:20251102T020000
TZOFFSETFROM:-0600
TZOFFSETTO:-0700
RDATE:20261101T020000
END:STANDARD
BEGIN:DAYLIGHT
TZNAME:MDT
DTSTART:20260308T020000
TZOFFSETFROM:-0700
TZOFFSETTO:-0600
RDATE:20270314T020000
END:DAYLIGHT
END:VTIMEZONE
BEGIN:VEVENT
UID:0bfd0dbc-135e-4da3-a473-0a99424ab5d2
DTSTAMP:20260422T064138Z
DESCRIPTION:Music @ The Collective\nWe are thrilled to have Pepper Rose and
  Dave Crespo at April Art Stroll 2026 at The Local Artisan Collective. \nG
 et Ready to Feel the Beat at Music @ The Collective!\nJoin us for a foot-t
 apping\, heart-thumping\, soul-filling good time at Music @ The Collective
 —a FREE monthly celebration of local talent\, creativity\, and community v
 ibes!\nFeaturing:\nIncredible local musicians\nHands-on art demos\nAn all-
 ages experience\nA vibrant\, welcoming space for everyone\nWhere: 2371 Kie
 sel Ave.\, Ogden\nWhen: Monthly during the Art Stroll & special events\nEx
 act times will vary every event\nCost: FREE (Yes\, really!)\nJuly Art Stro
 ll 2025:\nBoys and Girls Club Final Recital for the Will and Way Club spon
 sored by OFOAM\nAugust 1st Art Stroll 2025:\n6:30 to 8:30: Snarling Yarns
 \nSeptember 5th Art Stroll 2025:\n6:30 to 8:30: The Devon Lewis Trio\nOcto
 ber 3rd Art Stroll:\n6:30 to 8:30: Blue Sage\nOctober 18th Store’s 9th Bir
 thday Party:\n1:00: Cooper Lavallee\n2:00: Zaza Historia VanDyke\n3:00:Tho
 mas Tucker\n4:00: Devon Lewis\n5:00: Kal\n6:00: Markus Gunn\n7:00: Riley R
 awlings\nNovember 7th Art Stroll 2025:\n6:00 to 7:15: Wood Carver\n7:45 to
  9:00: Christian Scheller\nDecember 5th Art Stroll 2025:\n6:00 to 8:00: Ad
 am Kozlewski\nFebruary 6th Art Stroll 2026:\nTomo\nMarch 6th Art Stroll 20
 26:\nProper Way\nApril 3rd Art Stroll 2026:\nPepper Rose and Dave Crespo\n
 May 1st Art Stroll 2026:\nStandards and Substandards\nJune 5th Art Stroll 
 2026:\nPoeina\nThe Last Wild Buffalow\nSponsored by Ogden City Arts and OF
 OAM – Ogden Friends of Acoustic Music. We are beyond grateful to them both
  for helping to make this amazing music series happen!
DTSTART;TZID=America/Denver:20260403T183000
DTEND;TZID=America/Denver:20260403T203000
LOCATION:The Local Artisan Collective\, 2371 Kiesel Ave.\, Ogden\, UT 84403
  US
SUMMARY:Music @ The Collective with Pepper Rose and Dave Crespo
END:VEVENT
END:VCALENDAR
