BEGIN:VCALENDAR
VERSION:2.0
PRODID:-//uwnu.org//NONSGML kigkonsult.se iCalcreator 2.30.10//
CALSCALE:GREGORIAN
METHOD:PUBLISH
UID:95b9f683-dce9-4f32-8e06-36c6696be92f
X-WR-CALDESC:Let’s create a beautiful and unique mixed media keepsake box f
 or your treasures that will look incredible wherever you choose to display
  it!\n\nThis is a comprehensive course for basic mixed media where attende
 es will learn a full range of techniques with hands-on instruction.\n\nWe’
 ll begin with an 9.7” x 7.3” x 2” unfinished wood box.\n\nTechniques will 
 include composition of various elements\, including some created by you us
 ing resin and/or clay\, as well as ready made embellishments.\n\nWe’ll the
 n unify everything using gesso\, metallic wax and water-based varnish.\n\n
 All supplies and materials are provided in the class fee.\n\nWhen 4:30-9:3
 0 April 10\, 2026\n\nCost $60\n\nHow to register:\n\nSign up and pay onlin
 e https://localartisancollective.com/event-calendar/\n\nor call Jackie 801
 -564-3077\n\nor email @ journeyboundjournals@gmail.com\n\nshe can do payme
 nt over the phone or send an invoice to your email.\n\n\nCancellation Poli
 cy:\n\n7 days prior to class\n\nAbout the Artist:\n\nJackie Archibald is a
  mixed media artist who loves the freedom and challenge of using various m
 aterials to create one-of-a-kind pieces.  Some of her favorite materials i
 nclude\; resin\, heavy gel medium\, gesso\, metallic waxes\, paint\, metal
 \, chipboard and just about any interesting object she can find.\n\nAges 1
 5+
X-WR-RELCALID:74327bb94c00641e2112aad4a1ce630b
X-WR-TIMEZONE:America/Denver
BEGIN:VTIMEZONE
TZID:America/Denver
BEGIN:STANDARD
TZNAME:MST
DTSTART:20251102T020000
TZOFFSETFROM:-0600
TZOFFSETTO:-0700
RDATE:20261101T020000
END:STANDARD
BEGIN:DAYLIGHT
TZNAME:MDT
DTSTART:20260308T020000
TZOFFSETFROM:-0700
TZOFFSETTO:-0600
RDATE:20270314T020000
END:DAYLIGHT
END:VTIMEZONE
BEGIN:VEVENT
UID:3e266029-92bb-4dce-a1a2-780d36ef59dd
DTSTAMP:20260422T063557Z
DESCRIPTION:Let’s create a beautiful and unique mixed media keepsake box fo
 r your treasures that will look incredible wherever you choose to display 
 it!\n\nThis is a comprehensive course for basic mixed media where attendee
 s will learn a full range of techniques with hands-on instruction.\n\nWe’l
 l begin with an 9.7” x 7.3” x 2” unfinished wood box.\n\nTechniques will i
 nclude composition of various elements\, including some created by you usi
 ng resin and/or clay\, as well as ready made embellishments.\n\nWe’ll then
  unify everything using gesso\, metallic wax and water-based varnish.\n\nA
 ll supplies and materials are provided in the class fee.\n\nWhen 4:30-9:30
  April 10\, 2026\n\nCost $60\n\nHow to register:\n\nSign up and pay online
  https://localartisancollective.com/event-calendar/\n\nor call Jackie 801-
 564-3077\n\nor email @ journeyboundjournals@gmail.com\n\nshe can do paymen
 t over the phone or send an invoice to your email.\n\n\nCancellation Polic
 y:\n\n7 days prior to class\n\nAbout the Artist:\n\nJackie Archibald is a 
 mixed media artist who loves the freedom and challenge of using various ma
 terials to create one-of-a-kind pieces.  Some of her favorite materials in
 clude\; resin\, heavy gel medium\, gesso\, metallic waxes\, paint\, metal\
 , chipboard and just about any interesting object she can find.\n\nAges 15
 +
DTSTART;TZID=America/Denver:20260410T163000
DTEND;TZID=America/Denver:20260410T213000
LOCATION:The Local Artisan Collective\, 2371 Kiesel Ave.\, Ogden\, UT 84403
  US
SUMMARY:Treasure Trove Mixed Media Keepsake Box-with Jackie Archibald
END:VEVENT
END:VCALENDAR
