BEGIN:VCALENDAR
VERSION:2.0
PRODID:-//uwnu.org//NONSGML kigkonsult.se iCalcreator 2.30.10//
CALSCALE:GREGORIAN
METHOD:PUBLISH
UID:9d5e75eb-8ab3-4f24-a32c-342666e3c822
X-WR-CALDESC:Felted Plants = Stab Wool + Shape a Cactus\, Plant or Succulen
 t + Plant It in a Pot\n\nWhat:\nFelt your stress away while making the cut
 est\, most low-maintenance plant you’ll ever own! In this class\, you’ll u
 se simple needle felting techniques to create a cactus or succulent\, comp
 lete with a mini pot and decorative rocks. It’s fun\, beginner-friendly\, 
 and totally addictive—no green thumb required! Choose from a rainbow of wo
 ol colors to make your creation as realistic or whimsical as you’d like.\n
 \nWhen:\nThis class is on Wednesday\, April 29th 6:00pm to 8:00pm.\n\nCost
 :\n$29 includes all supplies—a felting needle\, colorful wool roving\, roc
 ks\, pot\, and guidance from start to finish. Plus\, you get to use your i
 magination to create something you truly love!\n\nHow to Sign Up and Cance
 llation Policy:\n👉ign up online:  https://localartisancollective.com/event
 s/felted-succulents-plants-or-cactus/\n\nOr contact Stephanie directly:\n📞
 801-940-6972\n📧our_childrens_earth@yahoo.com\n(She can take payment over t
 he phone or send you an invoice.)\n\nCancellation is accepted up to 14 day
 s before the class starts.\n\nAges:\nOpen to all ages—just note that young
 er kiddos will need help from an adult to use the sharp needles.\n\nWho:\n
 This class is taught by Stephanie Howerton of Our Children’s Earth. Stepha
 nie is obsessed with fiber arts\, hand-dyeing\, felting\, marbling\, and a
 nything that lets creativity run wild. She says:\n\n“Felting is pure magic
 —it’s like sculpting with wool! I can’t wait to share it with you.”\n\nSte
 phanie has been featured in Fox 13 News\, Good Things Utah\, Huffington Po
 st\, VEIN Magazine\, Indie Ogden\, and more. She teaches a variety of hand
 s-on creative classes at The Local Artisan Collective and believes anyone 
 can be an artist with the right tools and inspiration.
X-WR-RELCALID:52ba67a8fcdc5f1a31f43b502f5833c0
X-WR-TIMEZONE:America/Denver
BEGIN:VTIMEZONE
TZID:America/Denver
BEGIN:STANDARD
TZNAME:MST
DTSTART:20251102T020000
TZOFFSETFROM:-0600
TZOFFSETTO:-0700
RDATE:20261101T020000
END:STANDARD
BEGIN:DAYLIGHT
TZNAME:MDT
DTSTART:20260308T020000
TZOFFSETFROM:-0700
TZOFFSETTO:-0600
RDATE:20270314T020000
END:DAYLIGHT
END:VTIMEZONE
BEGIN:VEVENT
UID:1cacb6e3-2cce-47dd-8034-c0d193976884
DTSTAMP:20260422T063912Z
DESCRIPTION:Felted Plants = Stab Wool + Shape a Cactus\, Plant or Succulent
  + Plant It in a Pot\n\nWhat:\nFelt your stress away while making the cute
 st\, most low-maintenance plant you’ll ever own! In this class\, you’ll us
 e simple needle felting techniques to create a cactus or succulent\, compl
 ete with a mini pot and decorative rocks. It’s fun\, beginner-friendly\, a
 nd totally addictive—no green thumb required! Choose from a rainbow of woo
 l colors to make your creation as realistic or whimsical as you’d like.\n
 \nWhen:\nThis class is on Wednesday\, April 29th 6:00pm to 8:00pm.\n\nCost
 :\n$29 includes all supplies—a felting needle\, colorful wool roving\, roc
 ks\, pot\, and guidance from start to finish. Plus\, you get to use your i
 magination to create something you truly love!\n\nHow to Sign Up and Cance
 llation Policy:\n👉ign up online:  https://localartisancollective.com/event
 s/felted-succulents-plants-or-cactus/\n\nOr contact Stephanie directly:\n📞
 801-940-6972\n📧our_childrens_earth@yahoo.com\n(She can take payment over t
 he phone or send you an invoice.)\n\nCancellation is accepted up to 14 day
 s before the class starts.\n\nAges:\nOpen to all ages—just note that young
 er kiddos will need help from an adult to use the sharp needles.\n\nWho:\n
 This class is taught by Stephanie Howerton of Our Children’s Earth. Stepha
 nie is obsessed with fiber arts\, hand-dyeing\, felting\, marbling\, and a
 nything that lets creativity run wild. She says:\n\n“Felting is pure magic
 —it’s like sculpting with wool! I can’t wait to share it with you.”\n\nSte
 phanie has been featured in Fox 13 News\, Good Things Utah\, Huffington Po
 st\, VEIN Magazine\, Indie Ogden\, and more. She teaches a variety of hand
 s-on creative classes at The Local Artisan Collective and believes anyone 
 can be an artist with the right tools and inspiration.
DTSTART;TZID=America/Denver:20260429T180000
DTEND;TZID=America/Denver:20260429T200000
LOCATION:The Local Artisan Collective\, 2371 Kiesel Ave.\, Ogden\, UT 84403
  US
SUMMARY:Felted Succulents\, Plants or Cactus Class
END:VEVENT
END:VCALENDAR
