BEGIN:VCALENDAR
VERSION:2.0
PRODID:-//uwnu.org//NONSGML kigkonsult.se iCalcreator 2.30.10//
CALSCALE:GREGORIAN
METHOD:PUBLISH
UID:84e76d66-ce26-4ab6-bdab-9f71ed2cc565
X-WR-CALDESC:Run for the Roses is the Junior League of Ogden’s signature Ke
 ntucky Derby–themed fundraising event. Guests will enjoy sponsored horse r
 aces\, raffles\, food\, drinks\, and festive fun\, with proceeds supportin
 g local community impact projects. April 30\, 2026 from 6–9pm at The Found
 ry in Uintah\, UT.
X-WR-RELCALID:9dc470d1a72fd48eceabf96df7f4f678
X-WR-TIMEZONE:America/Denver
BEGIN:VTIMEZONE
TZID:America/Denver
BEGIN:STANDARD
TZNAME:MST
DTSTART:20251102T020000
TZOFFSETFROM:-0600
TZOFFSETTO:-0700
RDATE:20261101T020000
END:STANDARD
BEGIN:DAYLIGHT
TZNAME:MDT
DTSTART:20260308T020000
TZOFFSETFROM:-0700
TZOFFSETTO:-0600
RDATE:20270314T020000
END:DAYLIGHT
END:VTIMEZONE
BEGIN:VEVENT
UID:672a96fa-811e-44e8-9e20-0bda380401e1
DTSTAMP:20260422T063835Z
DESCRIPTION:Run for the Roses is the Junior League of Ogden’s signature Ken
 tucky Derby–themed fundraising event. Guests will enjoy sponsored horse ra
 ces\, raffles\, food\, drinks\, and festive fun\, with proceeds supporting
  local community impact projects. April 30\, 2026 from 6–9pm at The Foundr
 y in Uintah\, UT.
DTSTART;TZID=America/Denver:20260430T180000
DTEND;TZID=America/Denver:20260430T210000
LOCATION:The Foundry\, 2452 E 6700 S\, Uintah\, UT 84405 US
SUMMARY:Run for the Roses
END:VEVENT
END:VCALENDAR
