BEGIN:VCALENDAR
VERSION:2.0
PRODID:-//uwnu.org//NONSGML kigkonsult.se iCalcreator 2.30.10//
CALSCALE:GREGORIAN
METHOD:PUBLISH
UID:36c38404-0b58-492b-ab88-761108edf7e2
X-WR-CALDESC:What:\n\nAll skill levels are welcome to come build a personal
 ized birdhouse using the hand building method.  We will discuss how the si
 ze of entry hole\, position in yard\, and nearby plants will help the bird
 house be successful for attracting friends.\n\nWe will roll and prepare th
 e clay\nAdd texture and personalization using lace\, stamps\, and stencils
 \nCut the clay using templates\nForm a beautiful lasting piece that will b
 e a focal point in our yards\nYou will select a glaze color the night of t
 he event\nThe pieces will be available to pick up after two weeks to allow
  time for the pieces to be carefully dried\, glazed and fired\nWhen: \n\nS
 aturday\, May 2nd\, from 10:00 am to 12:30 pm\n\nLocation:\n\nThe Local Ar
 tisan Collective\, 2371 Kiesel Avenue\, Ogden\, UT 84404\n\nCost:\n\n$55\n
 \nHow to Sign Up:\n\nRegister online at: https://localartisancollective.co
 m/events/birdhouse-workshop-5-2-2026-1000-to-1230/\n\nOr come into the col
 lective and register in person\n\nCall Jordan at 385.238.9799 with any que
 stions\n\nAges:\n\n10 and up (younger people may be accommodated with a pa
 rent assisting)\n\nJordan Harvey/Salt City Pottery:\n\n\n \n\nHello!  I’m 
 a small-batch potter from Northern Utah who’s been happily playing with mu
 d since 1998. I make functional\, feel-good pieces with smooth bare clay a
 nd hand-painted floral details.  I love teaching people how to make their 
 own special pieces with clay and I look forward to meeting you in class.\n
 \n \n\nCancellation Policy:\n\nTo receive a refund minus a $5 processing f
 ee\, cancellations must be requested seven days prior to the class\, allow
 ing enough time to refill the vacated spot.\n\nThe Collective:\n\nThe Loca
 l Artisan Collective in Ogden\, Utah\, is a hub for local artisans to show
 case and sell their handmade goods\, including jewelry\, art\, and home de
 cor. It promotes community engagement through workshops and classes\, maki
 ng it a key destination for supporting local creativity and finding unique
  items.
X-WR-RELCALID:1251c6c50d0f65f6b1847771d76c6de5
X-WR-TIMEZONE:America/Denver
BEGIN:VTIMEZONE
TZID:America/Denver
BEGIN:STANDARD
TZNAME:MST
DTSTART:20251102T020000
TZOFFSETFROM:-0600
TZOFFSETTO:-0700
RDATE:20261101T020000
END:STANDARD
BEGIN:DAYLIGHT
TZNAME:MDT
DTSTART:20260308T020000
TZOFFSETFROM:-0700
TZOFFSETTO:-0600
RDATE:20270314T020000
END:DAYLIGHT
END:VTIMEZONE
BEGIN:VEVENT
UID:b3d66592-fca2-472a-9fde-42733a76aebc
DTSTAMP:20260422T231043Z
DESCRIPTION:What:\n\nAll skill levels are welcome to come build a personali
 zed birdhouse using the hand building method.  We will discuss how the siz
 e of entry hole\, position in yard\, and nearby plants will help the birdh
 ouse be successful for attracting friends.\n\nWe will roll and prepare the
  clay\nAdd texture and personalization using lace\, stamps\, and stencils
 \nCut the clay using templates\nForm a beautiful lasting piece that will b
 e a focal point in our yards\nYou will select a glaze color the night of t
 he event\nThe pieces will be available to pick up after two weeks to allow
  time for the pieces to be carefully dried\, glazed and fired\nWhen: \n\nS
 aturday\, May 2nd\, from 10:00 am to 12:30 pm\n\nLocation:\n\nThe Local Ar
 tisan Collective\, 2371 Kiesel Avenue\, Ogden\, UT 84404\n\nCost:\n\n$55\n
 \nHow to Sign Up:\n\nRegister online at: https://localartisancollective.co
 m/events/birdhouse-workshop-5-2-2026-1000-to-1230/\n\nOr come into the col
 lective and register in person\n\nCall Jordan at 385.238.9799 with any que
 stions\n\nAges:\n\n10 and up (younger people may be accommodated with a pa
 rent assisting)\n\nJordan Harvey/Salt City Pottery:\n\n\n \n\nHello!  I’m 
 a small-batch potter from Northern Utah who’s been happily playing with mu
 d since 1998. I make functional\, feel-good pieces with smooth bare clay a
 nd hand-painted floral details.  I love teaching people how to make their 
 own special pieces with clay and I look forward to meeting you in class.\n
 \n \n\nCancellation Policy:\n\nTo receive a refund minus a $5 processing f
 ee\, cancellations must be requested seven days prior to the class\, allow
 ing enough time to refill the vacated spot.\n\nThe Collective:\n\nThe Loca
 l Artisan Collective in Ogden\, Utah\, is a hub for local artisans to show
 case and sell their handmade goods\, including jewelry\, art\, and home de
 cor. It promotes community engagement through workshops and classes\, maki
 ng it a key destination for supporting local creativity and finding unique
  items.
DTSTART;TZID=America/Denver:20260502T100000
DTEND;TZID=America/Denver:20260502T123000
LOCATION:The Local Artisan Collective\, 2371 Kiesel Ave.\, Ogden\, UT 84403
  US
SUMMARY:Birdhouse Workshop
END:VEVENT
END:VCALENDAR
