BEGIN:VCALENDAR
VERSION:2.0
PRODID:-//uwnu.org//NONSGML kigkonsult.se iCalcreator 2.30.10//
CALSCALE:GREGORIAN
METHOD:PUBLISH
UID:af95d55a-51d4-47a2-a0af-b2380a807703
X-WR-CALDESC:Join us for a full day of discovery\, creativity\, and communi
 ty at the Crystal Festival – A Rock\, Mineral\, Gem\, & Crystal Show plus 
 Oddities Market\, happening Sunday\, May 3rd\, from 10am to 8pm at The Mon
 arch on 25th. For more information see: www.CrystalFestival.com
X-WR-RELCALID:dad0007afa58ecba3641ad861af2e25a
X-WR-TIMEZONE:America/Denver
BEGIN:VTIMEZONE
TZID:America/Denver
BEGIN:STANDARD
TZNAME:MST
DTSTART:20251102T020000
TZOFFSETFROM:-0600
TZOFFSETTO:-0700
RDATE:20261101T020000
END:STANDARD
BEGIN:DAYLIGHT
TZNAME:MDT
DTSTART:20260308T020000
TZOFFSETFROM:-0700
TZOFFSETTO:-0600
RDATE:20270314T020000
END:DAYLIGHT
END:VTIMEZONE
BEGIN:VEVENT
UID:8c17073e-1d5b-41fc-aa3a-48c889fa77ef
DTSTAMP:20260422T082238Z
DESCRIPTION:Join us for a full day of discovery\, creativity\, and communit
 y at the Crystal Festival – A Rock\, Mineral\, Gem\, & Crystal Show plus O
 ddities Market\, happening Sunday\, May 3rd\, from 10am to 8pm at The Mona
 rch on 25th. For more information see: www.CrystalFestival.com
DTSTART;TZID=America/Denver:20260503T100000
DTEND;TZID=America/Denver:20260503T203000
LOCATION:The Monarch\, 455 25th St \, Ogden\, UT 84404 US
SUMMARY:Crystal Festival - A Rock\, Mineral\, Gem\, & Crystal Show + Odditi
 es Market
END:VEVENT
END:VCALENDAR
