BEGIN:VCALENDAR
VERSION:2.0
PRODID:-//uwnu.org//NONSGML kigkonsult.se iCalcreator 2.30.10//
CALSCALE:GREGORIAN
METHOD:PUBLISH
UID:fc6c1d59-b8e3-4a8e-9c08-d68515fe8690
X-WR-CALDESC:Marbling Fun! Make your own Candlestick Holders!\nWhat:\nMarbl
 ing art is a fun and unique way to explore your creativity and create beau
 tiful\, one-of-a-kind designs. Whether you’re a beginner or an experienced
  artist\, a marbling art class is a great way to learn new skills\, and ha
 ve fun. So why not give it a try and see where your creativity takes you?
 \nWhen:\nThis class will be Saturday\, May 16th\nTime:\n3:00 to 5:00\nCost
 :\n $19\, all supplies are included for 2 wooden candlestick holders.   A 
 variety of sizes will be available for you to choose from.\nAges:\nAny age
  but younger children will need an adult to do it with them.\nHow to Regis
 ter and Cancelation Policy:\nSign up online:  https://localartisancollecti
 ve.com/events/marbling-a-candle-sticks-may-16/\nor call Stephanie at 801-9
 40-6972\nor email us at our_childrens_earth@yahoo.com and they can do a pa
 yment over the phone for you or send you an invoice to your email for paym
 ent.\nCancellation for the class is accepted up until 7 days before the pa
 rty starts.\nWho:\nThis class is taught by Stephanie Howerton from Our Chi
 ldren’s Earth. She has always had a passion for creating things. She loves
  marbling\, hand dyeing and creating clothes\, jewelry and household items
 .\nShe says “My heart delights in creating something new so I tend to expl
 ore a variety of arts. I hope that you feel that same joy while using your
  new purchase.”\nWe have been featured in the Huffington Post\, VEIN Magaz
 ine\, Indie Ogden\, Standard Examiner\, Good Things Utah\, Fox 13 News and
  a variety of blogs and more.\nStephanie also teaches a wide variety of cl
 asses at The Local Artisan Collective.
X-WR-RELCALID:bd3075127017225eaec8e81d8e9fe941
X-WR-TIMEZONE:America/Denver
BEGIN:VTIMEZONE
TZID:America/Denver
BEGIN:STANDARD
TZNAME:MST
DTSTART:20251102T020000
TZOFFSETFROM:-0600
TZOFFSETTO:-0700
RDATE:20261101T020000
RDATE:20271107T020000
END:STANDARD
BEGIN:DAYLIGHT
TZNAME:MDT
DTSTART:20260308T020000
TZOFFSETFROM:-0700
TZOFFSETTO:-0600
RDATE:20270314T020000
END:DAYLIGHT
END:VTIMEZONE
BEGIN:VEVENT
UID:30c49e30-51d3-4544-bec7-f2eade3c6e58
DTSTAMP:20260422T081715Z
DESCRIPTION:Marbling Fun! Make your own Candlestick Holders!\nWhat:\nMarbli
 ng art is a fun and unique way to explore your creativity and create beaut
 iful\, one-of-a-kind designs. Whether you’re a beginner or an experienced 
 artist\, a marbling art class is a great way to learn new skills\, and hav
 e fun. So why not give it a try and see where your creativity takes you?\n
 When:\nThis class will be Saturday\, May 16th\nTime:\n3:00 to 5:00\nCost:
 \n $19\, all supplies are included for 2 wooden candlestick holders.   A v
 ariety of sizes will be available for you to choose from.\nAges:\nAny age 
 but younger children will need an adult to do it with them.\nHow to Regist
 er and Cancelation Policy:\nSign up online:  https://localartisancollectiv
 e.com/events/marbling-a-candle-sticks-may-16/\nor call Stephanie at 801-94
 0-6972\nor email us at our_childrens_earth@yahoo.com and they can do a pay
 ment over the phone for you or send you an invoice to your email for payme
 nt.\nCancellation for the class is accepted up until 7 days before the par
 ty starts.\nWho:\nThis class is taught by Stephanie Howerton from Our Chil
 dren’s Earth. She has always had a passion for creating things. She loves 
 marbling\, hand dyeing and creating clothes\, jewelry and household items.
 \nShe says “My heart delights in creating something new so I tend to explo
 re a variety of arts. I hope that you feel that same joy while using your 
 new purchase.”\nWe have been featured in the Huffington Post\, VEIN Magazi
 ne\, Indie Ogden\, Standard Examiner\, Good Things Utah\, Fox 13 News and 
 a variety of blogs and more.\nStephanie also teaches a wide variety of cla
 sses at The Local Artisan Collective.
DTSTART;TZID=America/Denver:20260516T150000
DTEND;TZID=America/Denver:20260516T170000
LOCATION:The Local Artisan Collective\, 2371 Kiesel Ave.\, Ogden\, UT 84403
  US
SUMMARY:Marbling 2 Wooden Candlestick Holders
END:VEVENT
END:VCALENDAR
