BEGIN:VCALENDAR
VERSION:2.0
PRODID:-//uwnu.org//NONSGML kigkonsult.se iCalcreator 2.30.10//
CALSCALE:GREGORIAN
METHOD:PUBLISH
UID:df09b074-6244-4853-a293-6bae01ae0a34
X-WR-CALDESC:Pressed Flowers in Beautiful Hanging Glass Class\n\nWhat and C
 ost:\n\nFlowers are one of the most beautiful things on earth. So why not 
 decorate your house with stunning pressed flowers in a hanging glass holde
 r. There will be a variety of hanging glass pieces and flowers to choose f
 rom. In this class you will get to make 1\; choose the flowers you want to
  decorate with\, and design your own phenomenal piece. I will also have di
 ctionary and book papers you can choose from as an additional background. 
 This class is $39 and includes all supplies.\nWhen:\nSaturday\, May 16th\n
 Time: \n12:00pm to 2:00pm\nWhere:\nThe Local Artisan Collective located at
  2371 Kiesel Ave\, Ogden.\nHow to Register and Cancelation Policy:\nRegist
 er for this class online:  https://localartisancollective.com/events/press
 ed-flowers-in-hanging-glass-class-on-may-16/\nor go into The Local Artisan
  Collective at 2371 Kiesel Ave\, Ogden\nor call the store at 801-399-2787 
 (ARTS) or Stephanie at 801-940-6972\nor email Stephanie at our_childrens_e
 arth@yahoo.com\nClass registration can be canceled up to 7 days before the
  class date.\nAges:\nThis class is for adults and teens\nWho:\nThis class 
 is taught by Stephanie Howerton from Our Children’s Earth. She has always 
 had a passion for creating things. She loves marbling\, hand dyeing and cr
 eating clothes\, jewelry and household items.\nShe says “My heart delights
  in creating something new so I tend to explore a variety of arts. I hope 
 that you feel that same joy while using your new purchase.”\nWe have been 
 featured in the Huffington Post\, Fresh Living KUTV 2 News\, VEIN Magazine
 \, Indie Ogden\, Standard Examiner\, Good Things Utah\, Fox 13 News and a 
 variety of blogs and more.\nStephanie also teaches a wide variety of class
 es at The Local Artisan Collective.
X-WR-RELCALID:9272f3eeb2bd4af4bea80293a4c39cfe
X-WR-TIMEZONE:America/Denver
BEGIN:VTIMEZONE
TZID:America/Denver
BEGIN:STANDARD
TZNAME:MST
DTSTART:20251102T020000
TZOFFSETFROM:-0600
TZOFFSETTO:-0700
RDATE:20261101T020000
RDATE:20271107T020000
END:STANDARD
BEGIN:DAYLIGHT
TZNAME:MDT
DTSTART:20260308T020000
TZOFFSETFROM:-0700
TZOFFSETTO:-0600
RDATE:20270314T020000
END:DAYLIGHT
END:VTIMEZONE
BEGIN:VEVENT
UID:8c030256-989f-4241-a634-59b36f682b40
DTSTAMP:20260422T081715Z
DESCRIPTION:Pressed Flowers in Beautiful Hanging Glass Class\n\nWhat and Co
 st:\n\nFlowers are one of the most beautiful things on earth. So why not d
 ecorate your house with stunning pressed flowers in a hanging glass holder
 . There will be a variety of hanging glass pieces and flowers to choose fr
 om. In this class you will get to make 1\; choose the flowers you want to 
 decorate with\, and design your own phenomenal piece. I will also have dic
 tionary and book papers you can choose from as an additional background. T
 his class is $39 and includes all supplies.\nWhen:\nSaturday\, May 16th\nT
 ime: \n12:00pm to 2:00pm\nWhere:\nThe Local Artisan Collective located at 
 2371 Kiesel Ave\, Ogden.\nHow to Register and Cancelation Policy:\nRegiste
 r for this class online:  https://localartisancollective.com/events/presse
 d-flowers-in-hanging-glass-class-on-may-16/\nor go into The Local Artisan 
 Collective at 2371 Kiesel Ave\, Ogden\nor call the store at 801-399-2787 (
 ARTS) or Stephanie at 801-940-6972\nor email Stephanie at our_childrens_ea
 rth@yahoo.com\nClass registration can be canceled up to 7 days before the 
 class date.\nAges:\nThis class is for adults and teens\nWho:\nThis class i
 s taught by Stephanie Howerton from Our Children’s Earth. She has always h
 ad a passion for creating things. She loves marbling\, hand dyeing and cre
 ating clothes\, jewelry and household items.\nShe says “My heart delights 
 in creating something new so I tend to explore a variety of arts. I hope t
 hat you feel that same joy while using your new purchase.”\nWe have been f
 eatured in the Huffington Post\, Fresh Living KUTV 2 News\, VEIN Magazine\
 , Indie Ogden\, Standard Examiner\, Good Things Utah\, Fox 13 News and a v
 ariety of blogs and more.\nStephanie also teaches a wide variety of classe
 s at The Local Artisan Collective.
DTSTART;TZID=America/Denver:20260516T120000
DTEND;TZID=America/Denver:20260516T140000
LOCATION:The Local Artisan Collective\, 2371 Kiesel Ave.\, Ogden\, UT 84403
  US
SUMMARY:Pressed Flowers in Hanging Glass Class
END:VEVENT
END:VCALENDAR
