BEGIN:VCALENDAR
VERSION:2.0
PRODID:-//uwnu.org//NONSGML kigkonsult.se iCalcreator 2.30.10//
CALSCALE:GREGORIAN
METHOD:PUBLISH
UID:038715c3-4cea-4e84-92c8-1e307a0eb8d3
X-WR-CALDESC:What:\n\nThis 4 week long summer camp will provide kids with:
 \nFun hands on clay projects where they can create and personalize their p
 ieces\nLearn basic hand building techniques and the application of undergl
 azes and glazes\nProjects include: square jars\, bobbleheads\, wind chimes
 \, and decorative 2d-like vases\nFinished Pieces will be ready to pick up 
 2 weeks after class ends to allow for careful drying and firing\nWhen: \n
 \nMondays\, 6/1-6/22 \, from 10:00 am to 11:30 am\n\nLocation:\n\nThe Loca
 l Artisan Collective\, 2371 Kiesel Avenue\, Ogden\, UT 84404\n\nCost:\n\n$
 149\n\nHow to Sign Up:\n\nRegister online at: https://localartisancollecti
 ve.com/events/mondays-with-mud/\n\nOr come into the collective and registe
 r in person\n\nCall Jordan at 385.238.9799 with any questions\n\nAges:\n\n
 8 and up (younger people may be accommodated with a parent assisting)\n\nJ
 ordan Harvey/Salt City Pottery:\n\nHello!  I’m a small-batch potter from N
 orthern Utah who’s been happily playing with mud since 1998. I make functi
 onal\, feel-good pieces with smooth bare clay and hand-painted floral deta
 ils.  I love teaching people how to make their own special pieces with cla
 y and I look forward to meeting you in class.\n\nCancellation Policy:\n\nT
 o receive a refund minus a $5 processing fee\, cancellations must be reque
 sted fourteen days prior to the class\, allowing enough time to refill the
  vacated spot.\n\nThe Collective:\n\nThe Local Artisan Collective in Ogden
 \, Utah\, is a hub for local artisans to showcase and sell their handmade 
 goods\, including jewelry\, art\, and home decor. It promotes community en
 gagement through workshops and classes\, making it a key destination for s
 upporting local creativity and finding unique items.
X-WR-RELCALID:637d4553c1d29e38c1f92352080b1bd1
X-WR-TIMEZONE:America/Denver
BEGIN:VTIMEZONE
TZID:America/Denver
BEGIN:STANDARD
TZNAME:MST
DTSTART:20251102T020000
TZOFFSETFROM:-0600
TZOFFSETTO:-0700
RDATE:20261101T020000
RDATE:20271107T020000
END:STANDARD
BEGIN:DAYLIGHT
TZNAME:MDT
DTSTART:20260308T020000
TZOFFSETFROM:-0700
TZOFFSETTO:-0600
RDATE:20270314T020000
END:DAYLIGHT
END:VTIMEZONE
BEGIN:VEVENT
UID:424752bb-1373-4578-9f6f-9a7bb30c3c94
DTSTAMP:20260422T230858Z
DESCRIPTION:What:\n\nThis 4 week long summer camp will provide kids with:\n
 Fun hands on clay projects where they can create and personalize their pie
 ces\nLearn basic hand building techniques and the application of underglaz
 es and glazes\nProjects include: square jars\, bobbleheads\, wind chimes\,
  and decorative 2d-like vases\nFinished Pieces will be ready to pick up 2 
 weeks after class ends to allow for careful drying and firing\nWhen: \n\nM
 ondays\, 6/1-6/22 \, from 10:00 am to 11:30 am\n\nLocation:\n\nThe Local A
 rtisan Collective\, 2371 Kiesel Avenue\, Ogden\, UT 84404\n\nCost:\n\n$149
 \n\nHow to Sign Up:\n\nRegister online at: https://localartisancollective.
 com/events/mondays-with-mud/\n\nOr come into the collective and register i
 n person\n\nCall Jordan at 385.238.9799 with any questions\n\nAges:\n\n8 a
 nd up (younger people may be accommodated with a parent assisting)\n\nJord
 an Harvey/Salt City Pottery:\n\nHello!  I’m a small-batch potter from Nort
 hern Utah who’s been happily playing with mud since 1998. I make functiona
 l\, feel-good pieces with smooth bare clay and hand-painted floral details
 .  I love teaching people how to make their own special pieces with clay a
 nd I look forward to meeting you in class.\n\nCancellation Policy:\n\nTo r
 eceive a refund minus a $5 processing fee\, cancellations must be requeste
 d fourteen days prior to the class\, allowing enough time to refill the va
 cated spot.\n\nThe Collective:\n\nThe Local Artisan Collective in Ogden\, 
 Utah\, is a hub for local artisans to showcase and sell their handmade goo
 ds\, including jewelry\, art\, and home decor. It promotes community engag
 ement through workshops and classes\, making it a key destination for supp
 orting local creativity and finding unique items.
DTSTART;TZID=America/Denver:20260601T100000
DTEND;TZID=America/Denver:20260601T113000
LOCATION:The Local Artisan Collective\, 2371 Kiesel Ave.\, Ogden\, UT 84403
  US
SUMMARY:Mondays with Mud
END:VEVENT
END:VCALENDAR
