BEGIN:VCALENDAR
VERSION:2.0
PRODID:-//uwnu.org//NONSGML kigkonsult.se iCalcreator 2.30.10//
CALSCALE:GREGORIAN
METHOD:PUBLISH
UID:ae779563-d444-4a34-bdcf-a3c7ef8b0454
X-WR-CALDESC:Looking to make your own unique jewelry? Or brush up on silver
 smithing skills? Then this is the class for you.\nWhat:\nJoin us for a mor
 ning of creating your own unique jewelry. You’ll learn the basics of jewel
 ry making\, including how to use different tools and materials\, and how t
 o create different types of jewelry\, such as necklaces\, bracelets\, earr
 ings\, and rings. ALL skill levels are invited to class.\n\nClass registra
 tion is for the class and use of tools and equipment. Metal and stones are
  extra. They can be brought from home or bought at the store at the time o
 f class. Whether you’re a beginner or a seasoned pro\, you’re sure to have
  a blast!\n\nThis class is meant to be an ongoing class so one can learn n
 ew skills as old skills are mastered. However\, if you wish to come to jus
 t one class\, you are welcome to come. For one time classes\, you can choo
 se to make: silver band/ring\, silver band/rind with cabochon stone\, simp
 le earring design\, copper or silver bracelet with or without a cabochon s
 tone and simple pendant with or without a cabochon stone.\n\nCost:\n$40 pe
 r 2-hour class or 3 classes for $100. Class size is limited to about 4-5 s
 o there is ample 1 on 1 instruction.\n\nMetal and stones are extra and can
  be brought from home or bought at the store at the time of class.\n\nAges
 :\nThough the class is geared towards adults\, mature teens and pre-teens 
 are welcome to join as well.\n\nWhen:\nThursday nights at 6:30pm\n\nas wel
 l as every Wednesday at 10am\n\nWhere:\nClass will be taught at The Local 
 Artisan Collective located in downtown Ogden\, just a little south of the 
 Megaplex at 2371 Kiesel Ave\, Ogden. Private classes and parties are also 
 available.\n\nHow To Register And Cancelation Policy:\nClass is $40/per ea
 ch 2-hour class. Punch passes are also available: 3 classes for $100. You 
 can pay for the class in person at the store or on our website loc alartis
 ancollective.com/event-calendar. If you are interested in the 3 punch pass
 \, please pay for this class now and when you come to class\, we will pror
 ate the other other two classes.  I do not know how to do two different re
 gistrations online.\n\nFor more information or questions\, please text 801
 -686-5351.\n\nAbout The Instructor:\nThis class will be taught by Rene Ven
 egas\, a 16th generation silversmith. His family was one of the first to a
 rrive from Spain to the Americas. His ancestor\, Felipe Venegas\, was the 
 silversmith for the early cathedrals in the Dominican Republic and stamped
  the first European coins in the New World.  He has been teaching jewelry 
 and silversmithing classes at Weber State for 15 years. In addition\, he h
 as been featured in The Standard Examiner\, The Signpost\, KUTV Inside the
  Story\,  FOX13 Good Morning Utah\, The Salt Project and KTVX Good Things 
 Utah. Most recently\, he was Ogden City’s Mayor’s Art Award for Folk Art.
X-WR-RELCALID:4bcc790e1d40dbc46ea6d9a5340ee75f
X-WR-TIMEZONE:America/Denver
BEGIN:VTIMEZONE
TZID:America/Denver
BEGIN:STANDARD
TZNAME:MST
DTSTART:20251102T020000
TZOFFSETFROM:-0600
TZOFFSETTO:-0700
RDATE:20261101T020000
RDATE:20271107T020000
END:STANDARD
BEGIN:DAYLIGHT
TZNAME:MDT
DTSTART:20260308T020000
TZOFFSETFROM:-0700
TZOFFSETTO:-0600
RDATE:20270314T020000
END:DAYLIGHT
END:VTIMEZONE
BEGIN:VEVENT
UID:f17f41a8-d54e-4cd3-86a9-bf60c69d2c4d
DTSTAMP:20260419T165523Z
DESCRIPTION:Looking to make your own unique jewelry? Or brush up on silvers
 mithing skills? Then this is the class for you.\nWhat:\nJoin us for a morn
 ing of creating your own unique jewelry. You’ll learn the basics of jewelr
 y making\, including how to use different tools and materials\, and how to
  create different types of jewelry\, such as necklaces\, bracelets\, earri
 ngs\, and rings. ALL skill levels are invited to class.\n\nClass registrat
 ion is for the class and use of tools and equipment. Metal and stones are 
 extra. They can be brought from home or bought at the store at the time of
  class. Whether you’re a beginner or a seasoned pro\, you’re sure to have 
 a blast!\n\nThis class is meant to be an ongoing class so one can learn ne
 w skills as old skills are mastered. However\, if you wish to come to just
  one class\, you are welcome to come. For one time classes\, you can choos
 e to make: silver band/ring\, silver band/rind with cabochon stone\, simpl
 e earring design\, copper or silver bracelet with or without a cabochon st
 one and simple pendant with or without a cabochon stone.\n\nCost:\n$40 per
  2-hour class or 3 classes for $100. Class size is limited to about 4-5 so
  there is ample 1 on 1 instruction.\n\nMetal and stones are extra and can 
 be brought from home or bought at the store at the time of class.\n\nAges:
 \nThough the class is geared towards adults\, mature teens and pre-teens a
 re welcome to join as well.\n\nWhen:\nThursday nights at 6:30pm\n\nas well
  as every Wednesday at 10am\n\nWhere:\nClass will be taught at The Local A
 rtisan Collective located in downtown Ogden\, just a little south of the M
 egaplex at 2371 Kiesel Ave\, Ogden. Private classes and parties are also a
 vailable.\n\nHow To Register And Cancelation Policy:\nClass is $40/per eac
 h 2-hour class. Punch passes are also available: 3 classes for $100. You c
 an pay for the class in person at the store or on our website loc alartisa
 ncollective.com/event-calendar. If you are interested in the 3 punch pass\
 , please pay for this class now and when you come to class\, we will prora
 te the other other two classes.  I do not know how to do two different reg
 istrations online.\n\nFor more information or questions\, please text 801-
 686-5351.\n\nAbout The Instructor:\nThis class will be taught by Rene Vene
 gas\, a 16th generation silversmith. His family was one of the first to ar
 rive from Spain to the Americas. His ancestor\, Felipe Venegas\, was the s
 ilversmith for the early cathedrals in the Dominican Republic and stamped 
 the first European coins in the New World.  He has been teaching jewelry a
 nd silversmithing classes at Weber State for 15 years. In addition\, he ha
 s been featured in The Standard Examiner\, The Signpost\, KUTV Inside the 
 Story\,  FOX13 Good Morning Utah\, The Salt Project and KTVX Good Things U
 tah. Most recently\, he was Ogden City’s Mayor’s Art Award for Folk Art.
DTSTART;TZID=America/Denver:20260618T183000
DTEND;TZID=America/Denver:20260618T203000
LOCATION:The Local Artisan Collective\, 2371 Kiesel Ave.\, Ogden\, UT 84403
  US
SUMMARY:Jewelry Making Class
END:VEVENT
END:VCALENDAR
