BEGIN:VCALENDAR
VERSION:2.0
PRODID:-//uwnu.org//NONSGML kigkonsult.se iCalcreator 2.30.10//
CALSCALE:GREGORIAN
METHOD:PUBLISH
UID:33890907-edf2-4536-b4a3-b5494fb8dbf9
X-WR-CALDESC:Bring your kids for a fun and educational 6-week Summer Semest
 er.\nWhat:\n\nThis semester-long camp/class will inspire and motivate your
  student(s) to be creative in new ways as they explore art through a varie
 ty of media. Students will learn how to use new tools and create projects 
 that are unique\, fun and engaging.\n\nIn class we focus on the process of
  learning a new skill and encouraging students to discover their own uniqu
 e way to create. Our Class Motto is “You Are the Artist” We use this phras
 e to remind students that they make the creative decisions.\n\nThis summer
  some of our classes will be: Paint Wooden Houses\, Print Making a Bandann
 a and more! The semester will end with an Art Show where your students are
  the featured artist!\n\nWhen:\n\nThis year our classes will be on Thursda
 y’s: 11:30 to 12:30 OR from 1:00 to 2:00 for Kindergarten to 6th Grade. We
  start classes on the week of June 25th and end on the week of August 6th.
  We will have the week of July 24th off (no class on July 23rd).\n\nCost:
 \n\nThe class is $99 and includes all supplies.\n\nAges:\n\nKindergarten t
 o 6th Grade\n\nWho:\n\nThis class is taught by Stephanie Howerton. You can
  email us at our_childrens_earth@yahoo.com with any questions.\n\nHow to s
 ign up or cancelations:\nSign up online for the 1:00 to 2:00 Class:  https
 ://localartisancollective.com/events/oops-i-arted-summer-art-camp-2026-100
 /\n\nOR 11:30 to 12:30 Class:  https://localartisancollective.com/events/o
 ops-i-arted-childrens-summer-semester-art-camp-on-thursdays-1130/\n\nOR re
 gister in person at the store located at 2371 Kiesel Ave\nOR register over
  the phone by calling 801-399-ARTS (2787)\n\nNo refunds for canceling with
 in 14 days of the class starting.\n\nScholarships available (inquire in st
 ore for application)
X-WR-RELCALID:9f4af683632587051b48c47c9bbf9f60
X-WR-TIMEZONE:America/Denver
BEGIN:VTIMEZONE
TZID:America/Denver
BEGIN:STANDARD
TZNAME:MST
DTSTART:20251102T020000
TZOFFSETFROM:-0600
TZOFFSETTO:-0700
RDATE:20261101T020000
RDATE:20271107T020000
END:STANDARD
BEGIN:DAYLIGHT
TZNAME:MDT
DTSTART:20260308T020000
TZOFFSETFROM:-0700
TZOFFSETTO:-0600
RDATE:20270314T020000
END:DAYLIGHT
END:VTIMEZONE
BEGIN:VEVENT
UID:8e56c015-4f41-4c3f-bdf6-b5dd00c0c36b
DTSTAMP:20260422T095337Z
DESCRIPTION:Bring your kids for a fun and educational 6-week Summer Semeste
 r.\nWhat:\n\nThis semester-long camp/class will inspire and motivate your 
 student(s) to be creative in new ways as they explore art through a variet
 y of media. Students will learn how to use new tools and create projects t
 hat are unique\, fun and engaging.\n\nIn class we focus on the process of 
 learning a new skill and encouraging students to discover their own unique
  way to create. Our Class Motto is “You Are the Artist” We use this phrase
  to remind students that they make the creative decisions.\n\nThis summer 
 some of our classes will be: Paint Wooden Houses\, Print Making a Bandanna
  and more! The semester will end with an Art Show where your students are 
 the featured artist!\n\nWhen:\n\nThis year our classes will be on Thursday
 ’s: 11:30 to 12:30 OR from 1:00 to 2:00 for Kindergarten to 6th Grade. We 
 start classes on the week of June 25th and end on the week of August 6th. 
 We will have the week of July 24th off (no class on July 23rd).\n\nCost:\n
 \nThe class is $99 and includes all supplies.\n\nAges:\n\nKindergarten to 
 6th Grade\n\nWho:\n\nThis class is taught by Stephanie Howerton. You can e
 mail us at our_childrens_earth@yahoo.com with any questions.\n\nHow to sig
 n up or cancelations:\nSign up online for the 1:00 to 2:00 Class:  https:/
 /localartisancollective.com/events/oops-i-arted-summer-art-camp-2026-100/
 \n\nOR 11:30 to 12:30 Class:  https://localartisancollective.com/events/oo
 ps-i-arted-childrens-summer-semester-art-camp-on-thursdays-1130/\n\nOR reg
 ister in person at the store located at 2371 Kiesel Ave\nOR register over 
 the phone by calling 801-399-ARTS (2787)\n\nNo refunds for canceling withi
 n 14 days of the class starting.\n\nScholarships available (inquire in sto
 re for application)
DTSTART;TZID=America/Denver:20260625T130000
DTEND;TZID=America/Denver:20260625T140000
LOCATION:Local Artisan Collective\, 2371 Kiesel Ave.\, Ogden\, UT 84403 US
SUMMARY:Oops I Arted Children’s Summer Semester Art Camp
END:VEVENT
END:VCALENDAR
