BEGIN:VCALENDAR
VERSION:2.0
PRODID:-//uwnu.org//NONSGML kigkonsult.se iCalcreator 2.30.10//
CALSCALE:GREGORIAN
METHOD:PUBLISH
UID:d134ba1d-8422-47b3-8563-63aa08e20ae0
X-WR-CALDESC:Fairy Time!\nWhat:\nStep into a magical world as we paint and 
 decorate whimsical fairy chairs\, then create your very own fairy to bring
  the magic to life. This enchanting class is perfect for kids who love ima
 gination\, sparkle\, and a touch of fairy dust!\nCost:\nThe cost is $29 an
 d includes all supplies.\nWhen:\nJune 30th\, Tuesday\, 9:00am to 11:00am\n
 Ages:\nThis is for ages 5+\nWhere:\nThe Local Artisan Collective at 2371 K
 iesel Ave\, Ogden\, Utah 84403\nHow to Sign Up and Cancelation Policy:\nSi
 gn up here:  https://localartisancollective.com/events/fairy-june-30/\nOR 
 register in person at the store located at 2371 Kiesel Ave\nOR register ov
 er the phone by calling 801-399-ARTS (2787)\nNo refunds for cancelling wit
 hin 30 days of the class starting.\nFind lots of amazing camps this summer
 : Oops I Arted\, Dinosaur\, Mermaid and Ocean\, and Outer Space and Galaxy
  Summer Art Camps! Find these here: https://localartisancollective.com/eve
 nt\nWho is the Teacher:\nThis class is taught by Stephanie Howerton from O
 ur Children’s Earth. She has always had a passion for creating things. She
  loves marbling\, hand dyeing and creating clothes\, jewelry and household
  items.\nShe says “My heart delights in creating something new so I tend t
 o explore a variety of arts. I hope that you feel that same joy while usin
 g your new purchase.”\nWe have been featured in the Huffington Post\, VEIN
  Magazine\, Indie Ogden\, Standard Examiner\, Good Things Utah\, Fox 13 Ne
 ws and a variety of blogs and more.\nStephanie also teaches a wide variety
  of classes at The Local Artisan Collective.
X-WR-RELCALID:d1a1382529e740221dba0b2866f417c5
X-WR-TIMEZONE:America/Denver
BEGIN:VTIMEZONE
TZID:America/Denver
BEGIN:STANDARD
TZNAME:MST
DTSTART:20251102T020000
TZOFFSETFROM:-0600
TZOFFSETTO:-0700
RDATE:20261101T020000
RDATE:20271107T020000
END:STANDARD
BEGIN:DAYLIGHT
TZNAME:MDT
DTSTART:20260308T020000
TZOFFSETFROM:-0700
TZOFFSETTO:-0600
RDATE:20270314T020000
END:DAYLIGHT
END:VTIMEZONE
BEGIN:VEVENT
UID:1c700964-e81b-4f21-877f-28a18c7f5e3b
DTSTAMP:20260422T094009Z
DESCRIPTION:Fairy Time!\nWhat:\nStep into a magical world as we paint and d
 ecorate whimsical fairy chairs\, then create your very own fairy to bring 
 the magic to life. This enchanting class is perfect for kids who love imag
 ination\, sparkle\, and a touch of fairy dust!\nCost:\nThe cost is $29 and
  includes all supplies.\nWhen:\nJune 30th\, Tuesday\, 9:00am to 11:00am\nA
 ges:\nThis is for ages 5+\nWhere:\nThe Local Artisan Collective at 2371 Ki
 esel Ave\, Ogden\, Utah 84403\nHow to Sign Up and Cancelation Policy:\nSig
 n up here:  https://localartisancollective.com/events/fairy-june-30/\nOR r
 egister in person at the store located at 2371 Kiesel Ave\nOR register ove
 r the phone by calling 801-399-ARTS (2787)\nNo refunds for cancelling with
 in 30 days of the class starting.\nFind lots of amazing camps this summer:
  Oops I Arted\, Dinosaur\, Mermaid and Ocean\, and Outer Space and Galaxy 
 Summer Art Camps! Find these here: https://localartisancollective.com/even
 t\nWho is the Teacher:\nThis class is taught by Stephanie Howerton from Ou
 r Children’s Earth. She has always had a passion for creating things. She 
 loves marbling\, hand dyeing and creating clothes\, jewelry and household 
 items.\nShe says “My heart delights in creating something new so I tend to
  explore a variety of arts. I hope that you feel that same joy while using
  your new purchase.”\nWe have been featured in the Huffington Post\, VEIN 
 Magazine\, Indie Ogden\, Standard Examiner\, Good Things Utah\, Fox 13 New
 s and a variety of blogs and more.\nStephanie also teaches a wide variety 
 of classes at The Local Artisan Collective.
DTSTART;TZID=America/Denver:20260630T090000
DTEND;TZID=America/Denver:20260630T110000
LOCATION:Local Artisan Collective\, 2371 Kiesel Ave.\, Ogden\, UT 84403 US
SUMMARY:Fairy Children’s Summer Art Camp
END:VEVENT
END:VCALENDAR
