BEGIN:VCALENDAR
VERSION:2.0
PRODID:-//uwnu.org//NONSGML kigkonsult.se iCalcreator 2.30.10//
CALSCALE:GREGORIAN
METHOD:PUBLISH
UID:5dab27dc-9cde-440a-9693-9a38572087b3
X-WR-CALDESC:Mermaid and Ocean Summer Art Class\nWhat:\nDive into a world o
 f creativity with our Mermaid & Ocean Art Class! Kids will paint dreamy wa
 tercolor ocean scenes\, craft a beautiful seashell necklace\, and make a f
 izzy mermaid-themed bath bomb—an ocean of fun and imagination in one magic
 al session!\n\nCost:\nThe cost is $29 and includes all supplies.\nWhen:\nJ
 uly 14th\, Tuesday\, 9:00am to 11:00am\nAges:\nThis is for ages 5+\nWhere:
 \nThe Local Artisan Collective at 2371 Kiesel Ave\, Ogden\, Utah 84403\nHo
 w to Sign Up and Cancelation Policy:\nSign up here:  https://localartisanc
 ollective.com/events/mermaid-ocean-childrens-summer-art-camp-on-july-14th/
 \nOR register in person at the store located at 2371 Kiesel Ave\nOR regist
 er over the phone by calling 801-399-ARTS (2787)\nNo refunds for cancellin
 g within 30 days of the class starting.\nFind lots of amazing camps this s
 ummer: Oops I Arted\, Fairy\, Dinosaur\, and Outer Space and Galaxy Summer
  Art Camps! Find these here: https://localartisancollective.com/event\nWho
  is the Teacher:\nThis class is taught by Stephanie Howerton from Our Chil
 dren’s Earth. She has always had a passion for creating things. She loves 
 marbling\, hand dyeing and creating clothes\, jewelry and household items.
 \nShe says “My heart delights in creating something new so I tend to explo
 re a variety of arts. I hope that you feel that same joy while using your 
 new purchase.”\nWe have been featured in the Huffington Post\, VEIN Magazi
 ne\, Indie Ogden\, Standard Examiner\, Good Things Utah\, Fox 13 News and 
 a variety of blogs and more.\nStephanie also teaches a wide variety of cla
 sses at The Local Artisan Collective.
X-WR-RELCALID:920d42a19413eca4b9c3096eac8eb41a
X-WR-TIMEZONE:America/Denver
BEGIN:VTIMEZONE
TZID:America/Denver
BEGIN:STANDARD
TZNAME:MST
DTSTART:20251102T020000
TZOFFSETFROM:-0600
TZOFFSETTO:-0700
RDATE:20261101T020000
RDATE:20271107T020000
END:STANDARD
BEGIN:DAYLIGHT
TZNAME:MDT
DTSTART:20260308T020000
TZOFFSETFROM:-0700
TZOFFSETTO:-0600
RDATE:20270314T020000
END:DAYLIGHT
END:VTIMEZONE
BEGIN:VEVENT
UID:40fc9bb3-3697-4adf-92f3-7987a5d6cf8b
DTSTAMP:20260422T111604Z
DESCRIPTION:Mermaid and Ocean Summer Art Class\nWhat:\nDive into a world of
  creativity with our Mermaid & Ocean Art Class! Kids will paint dreamy wat
 ercolor ocean scenes\, craft a beautiful seashell necklace\, and make a fi
 zzy mermaid-themed bath bomb—an ocean of fun and imagination in one magica
 l session!\n\nCost:\nThe cost is $29 and includes all supplies.\nWhen:\nJu
 ly 14th\, Tuesday\, 9:00am to 11:00am\nAges:\nThis is for ages 5+\nWhere:
 \nThe Local Artisan Collective at 2371 Kiesel Ave\, Ogden\, Utah 84403\nHo
 w to Sign Up and Cancelation Policy:\nSign up here:  https://localartisanc
 ollective.com/events/mermaid-ocean-childrens-summer-art-camp-on-july-14th/
 \nOR register in person at the store located at 2371 Kiesel Ave\nOR regist
 er over the phone by calling 801-399-ARTS (2787)\nNo refunds for cancellin
 g within 30 days of the class starting.\nFind lots of amazing camps this s
 ummer: Oops I Arted\, Fairy\, Dinosaur\, and Outer Space and Galaxy Summer
  Art Camps! Find these here: https://localartisancollective.com/event\nWho
  is the Teacher:\nThis class is taught by Stephanie Howerton from Our Chil
 dren’s Earth. She has always had a passion for creating things. She loves 
 marbling\, hand dyeing and creating clothes\, jewelry and household items.
 \nShe says “My heart delights in creating something new so I tend to explo
 re a variety of arts. I hope that you feel that same joy while using your 
 new purchase.”\nWe have been featured in the Huffington Post\, VEIN Magazi
 ne\, Indie Ogden\, Standard Examiner\, Good Things Utah\, Fox 13 News and 
 a variety of blogs and more.\nStephanie also teaches a wide variety of cla
 sses at The Local Artisan Collective.
DTSTART;TZID=America/Denver:20260714T090000
DTEND;TZID=America/Denver:20260714T110000
LOCATION:Local Artisan Collective\, 2371 Kiesel Ave.\, Ogden\, UT 84403 US
SUMMARY:Mermaid and Ocean Children’s Summer Art Camp
END:VEVENT
END:VCALENDAR
