BEGIN:VCALENDAR
VERSION:2.0
PRODID:-//uwnu.org//NONSGML kigkonsult.se iCalcreator 2.30.10//
CALSCALE:GREGORIAN
METHOD:PUBLISH
UID:d55e5216-74e4-41cc-8e2a-bce4c6f1e733
X-WR-CALDESC:Outer Space and Galaxy Summer Art Camp!\nWhat:\nBlast off into
  creativity with our Outer Space & Galaxy Art Camp! Kids will paint their 
 own swirling galaxy masterpiece and create a clay spaceship ready for inte
 rstellar adventures. The perfect class for young artists who love stars an
 d imagination!\n\nCost:\nThe cost is $29 and includes all supplies.\nWhen:
 \nAugust 4th\, Tuesday\, 9:00am to 11:00am\nAges:\nThis is for ages 5+\nWh
 ere:\nThe Local Artisan Collective at 2371 Kiesel Ave\, Ogden\, Utah 84403
 \nHow to Sign Up and Cancelation Policy:\nSign up here:  https://localarti
 sancollective.com/events/outerspace-galaxy-childrens-summer-art-camp-on-au
 gust-4th/\nOR register in person at the store located at 2371 Kiesel Ave\n
 OR register over the phone by calling 801-399-ARTS (2787)\nNo refunds for 
 cancelling within 30 days of the class starting.\nFind lots of amazing cam
 ps this summer: Oops I Arted\, Fairy\, Mermaid and Ocean\, and Dinosaur Su
 mmer Art Camps! Find these here: https://localartisancollective.com/event
 \nWho is the Teacher:\nThis class is taught by Stephanie Howerton from Our
  Children’s Earth. She has always had a passion for creating things. She l
 oves marbling\, hand dyeing and creating clothes\, jewelry and household i
 tems.\nShe says “My heart delights in creating something new so I tend to 
 explore a variety of arts. I hope that you feel that same joy while using 
 your new purchase.”\nWe have been featured in the Huffington Post\, VEIN M
 agazine\, Indie Ogden\, Standard Examiner\, Good Things Utah\, Fox 13 News
  and a variety of blogs and more.\nStephanie also teaches a wide variety o
 f classes at The Local Artisan Collective.
X-WR-RELCALID:93ec253978c4a99a5e73853a20b252fc
X-WR-TIMEZONE:America/Denver
BEGIN:VTIMEZONE
TZID:America/Denver
BEGIN:STANDARD
TZNAME:MST
DTSTART:20251102T020000
TZOFFSETFROM:-0600
TZOFFSETTO:-0700
RDATE:20261101T020000
RDATE:20271107T020000
END:STANDARD
BEGIN:DAYLIGHT
TZNAME:MDT
DTSTART:20260308T020000
TZOFFSETFROM:-0700
TZOFFSETTO:-0600
RDATE:20270314T020000
END:DAYLIGHT
END:VTIMEZONE
BEGIN:VEVENT
UID:bc56dfa0-abb2-4c6d-bec4-e8daafa875a4
DTSTAMP:20260422T125319Z
DESCRIPTION:Outer Space and Galaxy Summer Art Camp!\nWhat:\nBlast off into 
 creativity with our Outer Space & Galaxy Art Camp! Kids will paint their o
 wn swirling galaxy masterpiece and create a clay spaceship ready for inter
 stellar adventures. The perfect class for young artists who love stars and
  imagination!\n\nCost:\nThe cost is $29 and includes all supplies.\nWhen:
 \nAugust 4th\, Tuesday\, 9:00am to 11:00am\nAges:\nThis is for ages 5+\nWh
 ere:\nThe Local Artisan Collective at 2371 Kiesel Ave\, Ogden\, Utah 84403
 \nHow to Sign Up and Cancelation Policy:\nSign up here:  https://localarti
 sancollective.com/events/outerspace-galaxy-childrens-summer-art-camp-on-au
 gust-4th/\nOR register in person at the store located at 2371 Kiesel Ave\n
 OR register over the phone by calling 801-399-ARTS (2787)\nNo refunds for 
 cancelling within 30 days of the class starting.\nFind lots of amazing cam
 ps this summer: Oops I Arted\, Fairy\, Mermaid and Ocean\, and Dinosaur Su
 mmer Art Camps! Find these here: https://localartisancollective.com/event
 \nWho is the Teacher:\nThis class is taught by Stephanie Howerton from Our
  Children’s Earth. She has always had a passion for creating things. She l
 oves marbling\, hand dyeing and creating clothes\, jewelry and household i
 tems.\nShe says “My heart delights in creating something new so I tend to 
 explore a variety of arts. I hope that you feel that same joy while using 
 your new purchase.”\nWe have been featured in the Huffington Post\, VEIN M
 agazine\, Indie Ogden\, Standard Examiner\, Good Things Utah\, Fox 13 News
  and a variety of blogs and more.\nStephanie also teaches a wide variety o
 f classes at The Local Artisan Collective.
DTSTART;TZID=America/Denver:20260804T090000
DTEND;TZID=America/Denver:20260804T110000
LOCATION:Local Artisan Collective\, 2371 Kiesel Ave.\, Ogden\, UT 84403 US
SUMMARY:Outer Space and Galaxy Children’s Summer Art Camp
END:VEVENT
END:VCALENDAR
